BEGIN:VCALENDAR
VERSION:2.0
PRODID:-//AIM Nursery &amp; Primary School (AIM) - ECPv6.15.20//NONSGML v1.0//EN
CALSCALE:GREGORIAN
METHOD:PUBLISH
X-WR-CALNAME:AIM Nursery &amp; Primary School (AIM)
X-ORIGINAL-URL:https://aimprimaryschool.com
X-WR-CALDESC:Events for AIM Nursery &amp; Primary School (AIM)
REFRESH-INTERVAL;VALUE=DURATION:PT1H
X-Robots-Tag:noindex
X-PUBLISHED-TTL:PT1H
BEGIN:VTIMEZONE
TZID:UTC
BEGIN:STANDARD
TZOFFSETFROM:+0000
TZOFFSETTO:+0000
TZNAME:UTC
DTSTART:20170101T000000
END:STANDARD
END:VTIMEZONE
BEGIN:VEVENT
DTSTART;TZID=UTC:20181225T000000
DTEND;TZID=UTC:20190102T000000
DTSTAMP:20260425T021459
CREATED:20180628T114833Z
LAST-MODIFIED:20180628T114833Z
UID:1060-1545696000-1546387200@aimprimaryschool.com
SUMMARY:Winter holidays
DESCRIPTION:
URL:https://aimprimaryschool.com/event/winter-holidays/
CATEGORIES:Exam Holidays
END:VEVENT
BEGIN:VEVENT
DTSTART;TZID=UTC:20180926T000000
DTEND;TZID=UTC:20181003T000000
DTSTAMP:20260425T021459
CREATED:20180628T114824Z
LAST-MODIFIED:20180628T114824Z
UID:1049-1537920000-1538524800@aimprimaryschool.com
SUMMARY:Quarterly holidays
DESCRIPTION:
URL:https://aimprimaryschool.com/event/quarterly-holidays/
CATEGORIES:Exam Holidays
END:VEVENT
END:VCALENDAR