BEGIN:VCALENDAR
VERSION:2.0
PRODID:-//AIM Nursery &amp; Primary School (AIM) - ECPv6.15.20//NONSGML v1.0//EN
CALSCALE:GREGORIAN
METHOD:PUBLISH
X-ORIGINAL-URL:https://aimprimaryschool.com
X-WR-CALDESC:Events for AIM Nursery &amp; Primary School (AIM)
REFRESH-INTERVAL;VALUE=DURATION:PT1H
X-Robots-Tag:noindex
X-PUBLISHED-TTL:PT1H
BEGIN:VTIMEZONE
TZID:UTC
BEGIN:STANDARD
TZOFFSETFROM:+0000
TZOFFSETTO:+0000
TZNAME:UTC
DTSTART:20170101T000000
END:STANDARD
END:VTIMEZONE
BEGIN:VEVENT
DTSTART;TZID=UTC:20180815T000000
DTEND;TZID=UTC:20180815T000000
DTSTAMP:20260425T032705
CREATED:20180628T114815Z
LAST-MODIFIED:20180628T114815Z
UID:1044-1534291200-1534291200@aimprimaryschool.com
SUMMARY:Independence day
DESCRIPTION:
URL:https://aimprimaryschool.com/event/independence-day/
CATEGORIES:Holiday's
END:VEVENT
BEGIN:VEVENT
DTSTART;TZID=UTC:20180630T000000
DTEND;TZID=UTC:20180630T000000
DTSTAMP:20260425T032705
CREATED:20180628T110412Z
LAST-MODIFIED:20180628T114814Z
UID:1040-1530316800-1530316800@aimprimaryschool.com
SUMMARY:Colour's Day
DESCRIPTION:
URL:https://aimprimaryschool.com/event/colours-day/
CATEGORIES:Holiday's
END:VEVENT
END:VCALENDAR