BEGIN:VCALENDAR
VERSION:2.0
PRODID:-//AIM Nursery &amp; Primary School (AIM) - ECPv6.15.20//NONSGML v1.0//EN
CALSCALE:GREGORIAN
METHOD:PUBLISH
X-WR-CALNAME:AIM Nursery &amp; Primary School (AIM)
X-ORIGINAL-URL:https://aimprimaryschool.com
X-WR-CALDESC:Events for AIM Nursery &amp; Primary School (AIM)
REFRESH-INTERVAL;VALUE=DURATION:PT1H
X-Robots-Tag:noindex
X-PUBLISHED-TTL:PT1H
BEGIN:VTIMEZONE
TZID:UTC
BEGIN:STANDARD
TZOFFSETFROM:+0000
TZOFFSETTO:+0000
TZNAME:UTC
DTSTART:20170101T000000
END:STANDARD
END:VTIMEZONE
BEGIN:VEVENT
DTSTART;TZID=UTC:20190222T083000
DTEND;TZID=UTC:20190222T083000
DTSTAMP:20260425T004904
CREATED:20180628T114840Z
LAST-MODIFIED:20180628T114840Z
UID:1070-1550824200-1550824200@aimprimaryschool.com
SUMMARY:Vegetable Day/Salad Day
DESCRIPTION:
URL:https://aimprimaryschool.com/event/vegetable-day-salad-day/
CATEGORIES:Salad day
END:VEVENT
BEGIN:VEVENT
DTSTART;TZID=UTC:20181116T090000
DTEND;TZID=UTC:20181116T090000
DTSTAMP:20260425T004904
CREATED:20180628T114828Z
LAST-MODIFIED:20180628T114828Z
UID:1057-1542358800-1542358800@aimprimaryschool.com
SUMMARY:Fruits Day/Salad Day
DESCRIPTION:
URL:https://aimprimaryschool.com/event/fruits-day-salad-day/
CATEGORIES:Salad day
END:VEVENT
END:VCALENDAR