BEGIN:VCALENDAR
VERSION:2.0
PRODID:-//AIM Nursery &amp; Primary School (AIM) - ECPv6.15.20//NONSGML v1.0//EN
CALSCALE:GREGORIAN
METHOD:PUBLISH
X-WR-CALNAME:AIM Nursery &amp; Primary School (AIM)
X-ORIGINAL-URL:https://aimprimaryschool.com
X-WR-CALDESC:Events for AIM Nursery &amp; Primary School (AIM)
REFRESH-INTERVAL;VALUE=DURATION:PT1H
X-Robots-Tag:noindex
X-PUBLISHED-TTL:PT1H
BEGIN:VTIMEZONE
TZID:UTC
BEGIN:STANDARD
TZOFFSETFROM:+0000
TZOFFSETTO:+0000
TZNAME:UTC
DTSTART:20170101T000000
END:STANDARD
END:VTIMEZONE
BEGIN:VEVENT
DTSTART;TZID=UTC:20181018T000000
DTEND;TZID=UTC:20181018T000000
DTSTAMP:20260424T214450
CREATED:20180628T114825Z
LAST-MODIFIED:20180628T114825Z
UID:1052-1539820800-1539820800@aimprimaryschool.com
SUMMARY:Ayudha Pooja
DESCRIPTION:
URL:https://aimprimaryschool.com/event/ayudha-pooja/
CATEGORIES:Holiday's
END:VEVENT
BEGIN:VEVENT
DTSTART;TZID=UTC:20181006T080000
DTEND;TZID=UTC:20181006T080000
DTSTAMP:20260424T214450
CREATED:20180628T114825Z
LAST-MODIFIED:20180628T114825Z
UID:1051-1538812800-1538812800@aimprimaryschool.com
SUMMARY:Open Day
DESCRIPTION:
URL:https://aimprimaryschool.com/event/open-day/
CATEGORIES:open day
END:VEVENT
BEGIN:VEVENT
DTSTART;TZID=UTC:20181002T000000
DTEND;TZID=UTC:20181002T000000
DTSTAMP:20260424T214450
CREATED:20180628T114824Z
LAST-MODIFIED:20180628T114824Z
UID:1050-1538438400-1538438400@aimprimaryschool.com
SUMMARY:Gandhi Jayanthi
DESCRIPTION:
URL:https://aimprimaryschool.com/event/gandhi-jayanthi/
CATEGORIES:Holiday's
END:VEVENT
BEGIN:VEVENT
DTSTART;TZID=UTC:20180926T000000
DTEND;TZID=UTC:20181003T000000
DTSTAMP:20260424T214450
CREATED:20180628T114824Z
LAST-MODIFIED:20180628T114824Z
UID:1049-1537920000-1538524800@aimprimaryschool.com
SUMMARY:Quarterly holidays
DESCRIPTION:
URL:https://aimprimaryschool.com/event/quarterly-holidays/
CATEGORIES:Exam Holidays
END:VEVENT
BEGIN:VEVENT
DTSTART;TZID=UTC:20180921T000000
DTEND;TZID=UTC:20180921T000000
DTSTAMP:20260424T214450
CREATED:20180628T114824Z
LAST-MODIFIED:20180628T114824Z
UID:1048-1537488000-1537488000@aimprimaryschool.com
SUMMARY:Muharram
DESCRIPTION:
URL:https://aimprimaryschool.com/event/muharram/
CATEGORIES:Holiday's
END:VEVENT
BEGIN:VEVENT
DTSTART;TZID=UTC:20180918T000000
DTEND;TZID=UTC:20180925T000000
DTSTAMP:20260424T214450
CREATED:20180628T114815Z
LAST-MODIFIED:20180628T114815Z
UID:1047-1537228800-1537833600@aimprimaryschool.com
SUMMARY:Quarterly Examination begins
DESCRIPTION:
URL:https://aimprimaryschool.com/event/quarterly-examination-begins/
CATEGORIES:Exams
END:VEVENT
BEGIN:VEVENT
DTSTART;TZID=UTC:20180913T000000
DTEND;TZID=UTC:20180913T000000
DTSTAMP:20260424T214450
CREATED:20180628T114815Z
LAST-MODIFIED:20180628T114815Z
UID:1046-1536796800-1536796800@aimprimaryschool.com
SUMMARY:Vinayagar Chathurthy
DESCRIPTION:
URL:https://aimprimaryschool.com/event/vinayagar-chathurthy/
CATEGORIES:Holiday's
END:VEVENT
BEGIN:VEVENT
DTSTART;TZID=UTC:20180822T000000
DTEND;TZID=UTC:20180827T000000
DTSTAMP:20260424T214450
CREATED:20180628T114815Z
LAST-MODIFIED:20180628T114815Z
UID:1045-1534896000-1535328000@aimprimaryschool.com
SUMMARY:Eid-ul-Adha
DESCRIPTION:
URL:https://aimprimaryschool.com/event/eid-ul-adha/
CATEGORIES:EID Holiday's
END:VEVENT
BEGIN:VEVENT
DTSTART;TZID=UTC:20180815T000000
DTEND;TZID=UTC:20180815T000000
DTSTAMP:20260424T214450
CREATED:20180628T114815Z
LAST-MODIFIED:20180628T114815Z
UID:1044-1534291200-1534291200@aimprimaryschool.com
SUMMARY:Independence day
DESCRIPTION:
URL:https://aimprimaryschool.com/event/independence-day/
CATEGORIES:Holiday's
END:VEVENT
BEGIN:VEVENT
DTSTART;TZID=UTC:20180630T000000
DTEND;TZID=UTC:20180630T000000
DTSTAMP:20260424T214450
CREATED:20180628T110412Z
LAST-MODIFIED:20180628T114814Z
UID:1040-1530316800-1530316800@aimprimaryschool.com
SUMMARY:Colour's Day
DESCRIPTION:
URL:https://aimprimaryschool.com/event/colours-day/
CATEGORIES:Holiday's
END:VEVENT
BEGIN:VEVENT
DTSTART;VALUE=DATE:20180421
DTEND;VALUE=DATE:20180422
DTSTAMP:20260424T214450
CREATED:20180215T091553Z
LAST-MODIFIED:20180404T120829Z
UID:334-1524268800-1524268800@aimprimaryschool.com
SUMMARY:Open Day
DESCRIPTION:Open Day from
URL:https://aimprimaryschool.com/event/annual-examination-begins/
END:VEVENT
BEGIN:VEVENT
DTSTART;VALUE=DATE:20180419
DTEND;VALUE=DATE:20180420
DTSTAMP:20260424T214450
CREATED:20180215T093141Z
LAST-MODIFIED:20180404T120702Z
UID:343-1524096000-1524096000@aimprimaryschool.com
SUMMARY:Summer vacation begins
DESCRIPTION:Summer vacation begins
URL:https://aimprimaryschool.com/event/summer-holiday-begins/
END:VEVENT
BEGIN:VEVENT
DTSTART;VALUE=DATE:20180411
DTEND;VALUE=DATE:20180412
DTSTAMP:20260424T214450
CREATED:20180215T092953Z
LAST-MODIFIED:20180404T120501Z
UID:341-1523404800-1523404800@aimprimaryschool.com
SUMMARY:Annual exam commences
DESCRIPTION:Annual exam commences
URL:https://aimprimaryschool.com/event/annual-examination-begins-2/
END:VEVENT
BEGIN:VEVENT
DTSTART;TZID=UTC:20180217T090000
DTEND;TZID=UTC:20180217T170000
DTSTAMP:20260424T214450
CREATED:20180215T092730Z
LAST-MODIFIED:20180215T092730Z
UID:339-1518858000-1518886800@aimprimaryschool.com
SUMMARY:Annual Day
DESCRIPTION:Annual Day
URL:https://aimprimaryschool.com/event/annual-day/
END:VEVENT
END:VCALENDAR